BEGIN:VCALENDAR
VERSION:2.0
PRODID:-//Feuerwehrverein Wetzikon-Seegräben - ECPv5.8.2//NONSGML v1.0//EN
CALSCALE:GREGORIAN
METHOD:PUBLISH
X-WR-CALNAME:Feuerwehrverein Wetzikon-Seegräben
X-ORIGINAL-URL:https://www.feuerwehrverein.ws
X-WR-CALDESC:Veranstaltungen für Feuerwehrverein Wetzikon-Seegräben
BEGIN:VTIMEZONE
TZID:Europe/Berlin
BEGIN:DAYLIGHT
TZOFFSETFROM:+0100
TZOFFSETTO:+0200
TZNAME:CEST
DTSTART:20230326T010000
END:DAYLIGHT
BEGIN:STANDARD
TZOFFSETFROM:+0200
TZOFFSETTO:+0100
TZNAME:CET
DTSTART:20231029T010000
END:STANDARD
END:VTIMEZONE
BEGIN:VEVENT
DTSTART;TZID=Europe/Berlin:20230610T080000
DTEND;TZID=Europe/Berlin:20230610T233000
DTSTAMP:20260425T183548
CREATED:20180424T112211Z
LAST-MODIFIED:20230416T095642Z
UID:1902-1686384000-1686439800@www.feuerwehrverein.ws
SUMMARY:3. Wetziker Füürwehr-Plauschmarsch
DESCRIPTION:Weitere Informationen sind direkt online zu finden. \nProgramm\nDer Start und das Ziel befinden sich zusammen mit der Festwirtschaft im Schulhaus Guldisloo. \n\nAb 08:00 Uhr ist die Festwirtschaft geöffnet\nAb 09:00 Uhr starten die ersten Gruppen ab Schulhaus Guldisloo\nAb 09:00 Uhr ist der Grill eingeheizt und es gibt warme Verpflegung\nAb 12:00 Uhr gibt es Rundfahrten mit unseren Oldtimer\nUngefähr um 18:00 Uhr findet die Rangverkündigung statt\nAb 19:00 Uhr startet der Bar-Betrieb
URL:https://www.feuerwehrverein.ws/event/3-wetziker-fueuerwehr-plauschmarsch/
END:VEVENT
END:VCALENDAR