BEGIN:VCALENDAR
VERSION:2.0
PRODID:-//Feuerwehrverein Wetzikon-Seegräben - ECPv5.8.2//NONSGML v1.0//EN
CALSCALE:GREGORIAN
METHOD:PUBLISH
X-WR-CALNAME:Feuerwehrverein Wetzikon-Seegräben
X-ORIGINAL-URL:https://www.feuerwehrverein.ws
X-WR-CALDESC:Veranstaltungen für Feuerwehrverein Wetzikon-Seegräben
BEGIN:VTIMEZONE
TZID:Europe/Berlin
BEGIN:DAYLIGHT
TZOFFSETFROM:+0100
TZOFFSETTO:+0200
TZNAME:CEST
DTSTART:20250330T010000
END:DAYLIGHT
BEGIN:STANDARD
TZOFFSETFROM:+0200
TZOFFSETTO:+0100
TZNAME:CET
DTSTART:20251026T010000
END:STANDARD
END:VTIMEZONE
BEGIN:VEVENT
DTSTART;TZID=Europe/Berlin:20250614T090000
DTEND;TZID=Europe/Berlin:20250614T230000
DTSTAMP:20260425T171124
CREATED:20150607T153740Z
LAST-MODIFIED:20241125T202933Z
UID:139-1749891600-1749942000@www.feuerwehrverein.ws
SUMMARY:4. Wetziker Füürwehr-Plauschmarsch
DESCRIPTION:Willkommen zum 4. Wetziker Füürwehr-Plauschmarsch am 14. Juni 2025! \nDer Feuerwehrverein Wetzikon-Seegräben lädt euch am Samstag\, 14. Juni 2025\, zum 4. Wetziker Füürwehr-Plauschmarsch ein – ein Tag voller Spass\, Action und Geselligkeit für Gross und Klein! \nWas erwartet euch? \n\nSpannende Route: Gemeinsam mit eurer Gruppe bewältigt ihr eine abwechslungsreiche Strecke und löst unterwegs lustige Spiele und Aufgaben.\nStart und Ziel: Schulhaus Guldisloo\, Wetzikon.\nFestwirtschaft: Geniesst köstliche Speisen und erfrischende Getränke in unserer gemütlichen Festwirtschaft.\nBar am Abend: Abends öffnet unsere Bar\, um den Tag in entspannter Atmosphäre ausklingen zu lassen.\n\nFür wen ist der Plauschmarsch?\nDer Plauschmarsch ist für alle da! Egal ob Familie\, Freunde\, Vereinsmitglieder oder Kolleginnen und Kollegen – Spass\, Teamgeist und ein unvergessliches Erlebnis stehen im Mittelpunkt. \nAnmeldung:\nMeldet euch als Gruppe an und seid dabei! Weitere Informationen zur Anmeldung und den Teilnahmebedingungen findet ihr hier auf unserer Webseite. \nSave the Date!\nMarkiert euch den 14. Juni 2025 im Kalender und seid Teil dieses einmaligen Erlebnisses. Wir freuen uns auf euch! \nEuer Feuerwehrverein Wetzikon-Seegräben
URL:https://www.feuerwehrverein.ws/event/4-wetziker-fuurwehr-plauschmarsch/
END:VEVENT
END:VCALENDAR