BEGIN:VCALENDAR
VERSION:2.0
PRODID:-//Feuerwehrverein Wetzikon-Seegräben - ECPv5.8.2//NONSGML v1.0//EN
CALSCALE:GREGORIAN
METHOD:PUBLISH
X-WR-CALNAME:Feuerwehrverein Wetzikon-Seegräben
X-ORIGINAL-URL:https://www.feuerwehrverein.ws
X-WR-CALDESC:Veranstaltungen für Feuerwehrverein Wetzikon-Seegräben
BEGIN:VTIMEZONE
TZID:Europe/Berlin
BEGIN:DAYLIGHT
TZOFFSETFROM:+0100
TZOFFSETTO:+0200
TZNAME:CEST
DTSTART:20240331T010000
END:DAYLIGHT
BEGIN:STANDARD
TZOFFSETFROM:+0200
TZOFFSETTO:+0100
TZNAME:CET
DTSTART:20241027T010000
END:STANDARD
END:VTIMEZONE
BEGIN:VEVENT
DTSTART;TZID=Europe/Berlin:20240427T073000
DTEND;TZID=Europe/Berlin:20240427T230000
DTSTAMP:20260425T171426
CREATED:20151121T145353Z
LAST-MODIFIED:20240210T143944Z
UID:303-1714203000-1714258800@www.feuerwehrverein.ws
SUMMARY:Feuerwehrreise
DESCRIPTION:Fahrt ins unbekannte\, Organisiert durch Leon und Fabian. Nähere Informationen erhalten die angemeldeten Teilnehmer direkt von den Organisatoren.
URL:https://www.feuerwehrverein.ws/event/feuerwehrreise/
END:VEVENT
END:VCALENDAR