BEGIN:VCALENDAR
VERSION:2.0
PRODID:-//Feuerwehrverein Wetzikon-Seegräben - ECPv5.8.2//NONSGML v1.0//EN
CALSCALE:GREGORIAN
METHOD:PUBLISH
X-WR-CALNAME:Feuerwehrverein Wetzikon-Seegräben
X-ORIGINAL-URL:https://www.feuerwehrverein.ws
X-WR-CALDESC:Veranstaltungen für Feuerwehrverein Wetzikon-Seegräben
BEGIN:VTIMEZONE
TZID:Europe/Berlin
BEGIN:DAYLIGHT
TZOFFSETFROM:+0100
TZOFFSETTO:+0200
TZNAME:CEST
DTSTART:20250330T010000
END:DAYLIGHT
BEGIN:STANDARD
TZOFFSETFROM:+0200
TZOFFSETTO:+0100
TZNAME:CET
DTSTART:20251026T010000
END:STANDARD
END:VTIMEZONE
BEGIN:VEVENT
DTSTART;TZID=Europe/Berlin:20250918T170000
DTEND;TZID=Europe/Berlin:20250918T230000
DTSTAMP:20260425T174247
CREATED:20180609T110705Z
LAST-MODIFIED:20241125T203256Z
UID:1935-1758214800-1758236400@www.feuerwehrverein.ws
SUMMARY:Fiirabig-Bier
DESCRIPTION:Der Feuerwehrverein Wetzikon-Seegräben lädt auch dieses Jahr herzlich zum Fiirabig-Bier ein! Jeden dritten Donnerstag im Monat bieten wir einen gemütlichen Abend mit frisch gezapftem Bier direkt aus dem Zapfhahn unseres alten Tanklöschfahrzeugs. Für das leibliche Wohl ist ebenfalls gesorgt. Das Fiirabig-Bier findet bei jeder Witterung statt – wir freuen uns auf euch!
URL:https://www.feuerwehrverein.ws/event/fiirabig-bier-4/
LOCATION:Feuerwehrdepot Kempten\, Wallenbachstrasse 7\, Wetzikon\, Zürich\, 8623\, Schweiz
END:VEVENT
END:VCALENDAR