BEGIN:VCALENDAR
VERSION:2.0
PRODID:-//Feuerwehrverein Wetzikon-Seegräben - ECPv5.8.2//NONSGML v1.0//EN
CALSCALE:GREGORIAN
METHOD:PUBLISH
X-WR-CALNAME:Feuerwehrverein Wetzikon-Seegräben
X-ORIGINAL-URL:https://www.feuerwehrverein.ws
X-WR-CALDESC:Veranstaltungen für Feuerwehrverein Wetzikon-Seegräben
BEGIN:VTIMEZONE
TZID:Europe/Berlin
BEGIN:DAYLIGHT
TZOFFSETFROM:+0100
TZOFFSETTO:+0200
TZNAME:CEST
DTSTART:20160327T010000
END:DAYLIGHT
BEGIN:STANDARD
TZOFFSETFROM:+0200
TZOFFSETTO:+0100
TZNAME:CET
DTSTART:20161030T010000
END:STANDARD
END:VTIMEZONE
BEGIN:VEVENT
DTSTART;TZID=Europe/Berlin:20160415T160000
DTEND;TZID=Europe/Berlin:20160415T230000
DTSTAMP:20260425T190148
CREATED:20151121T144906Z
LAST-MODIFIED:20160103T155745Z
UID:301-1460736000-1460761200@www.feuerwehrverein.ws
SUMMARY:Plauschhockey
DESCRIPTION:Match des Vereines gegen die Stadt Wetzikon\, wird durch Walter Guidolin (Wädi) koordiniert.
URL:https://www.feuerwehrverein.ws/event/plauschhockey/
LOCATION:Eishalle Wetzikon\, Rapperswilerstrasse 63\, Wetzikon\, Zürich\, 8620\, Schweiz
END:VEVENT
END:VCALENDAR