BEGIN:VCALENDAR
VERSION:2.0
PRODID:-//Feuerwehrverein Wetzikon-Seegräben - ECPv5.8.2//NONSGML v1.0//EN
CALSCALE:GREGORIAN
METHOD:PUBLISH
X-WR-CALNAME:Feuerwehrverein Wetzikon-Seegräben
X-ORIGINAL-URL:https://www.feuerwehrverein.ws
X-WR-CALDESC:Veranstaltungen für Feuerwehrverein Wetzikon-Seegräben
BEGIN:VTIMEZONE
TZID:Europe/Berlin
BEGIN:DAYLIGHT
TZOFFSETFROM:+0100
TZOFFSETTO:+0200
TZNAME:CEST
DTSTART:20150329T010000
END:DAYLIGHT
BEGIN:STANDARD
TZOFFSETFROM:+0200
TZOFFSETTO:+0100
TZNAME:CET
DTSTART:20151025T010000
END:STANDARD
END:VTIMEZONE
BEGIN:VEVENT
DTSTART;TZID=Europe/Berlin:20151002T183000
DTEND;TZID=Europe/Berlin:20151002T235500
DTSTAMP:20260425T191602
CREATED:20150721T191803Z
LAST-MODIFIED:20150915T163437Z
UID:189-1443810600-1443830100@www.feuerwehrverein.ws
SUMMARY:Plauschschiessen
DESCRIPTION:Plauschschiessen gemäss separater Anmeldung
URL:https://www.feuerwehrverein.ws/event/plauschschiessen/
LOCATION:Kleinkaliber Schützenstand\, Aemmetweg 19\, Wetzikon\, 8623\, Schweiz
END:VEVENT
END:VCALENDAR